{"text_format":"3","workbook":"xlsx","n_sheets":2,"sheets":["路基路面工培训课表","路基路面工培训分班"],"not_rendered":{"external_links":1},"read":"whole","date_system":"1900"}

{"sheet":"路基路面工培训课表","index":0,"n_rows":3,"n_cols":6,"rows_kept":3,"merged":[[0,0,0,5]]}
["2025年下半年路基路面工职业技能等级认定培训课表"]
["序号","培训分班名称","培训内容","培训地点","培训时间","培训教师"]
[1,"2025年下半年职业技能等级认定路基路面工五级/初级工","理论试题和实操试题培训","GB366","2025年12月17日14:00-18:00","李利利"]

{"sheet":"路基路面工培训分班","index":1,"n_rows":36,"n_cols":6,"rows_kept":36,"merged":[[0,0,0,5],[2,3,35,3],[2,4,35,4],[2,5,35,5]]}
["2025年下半年路基路面工职业技能等级认定培训分班"]
["序号","学生姓名","学生所属班级","职业（工种名称）","培训分班名称","培训教师"]
[1,{"$f":"[1]Sheet1!A596","v":"孙枭然"},{"$f":"[1]Sheet1!D596","v":"道桥3236"},"路基路面工","路基路面工五级/初级工","李利利"]
[2,{"$f":"[1]Sheet1!A597","v":"刘永康"},{"$f":"[1]Sheet1!D597","v":"道桥3244"}]
[3,{"$f":"[1]Sheet1!A598","v":"武建成"},{"$f":"[1]Sheet1!D598","v":"道桥3247"}]
[4,{"$f":"[1]Sheet1!A599","v":"杨浩"},{"$f":"[1]Sheet1!D599","v":"道桥3247"}]
[5,{"$f":"[1]Sheet1!A600","v":"赵佳毅"},{"$f":"[1]Sheet1!D600","v":"道桥3236"}]
[6,{"$f":"[1]Sheet1!A601","v":"黄昊"},{"$f":"[1]Sheet1!D601","v":"道桥3247"}]
[7,{"$f":"[1]Sheet1!A602","v":"李佳恒"},{"$f":"[1]Sheet1!D602","v":"道桥3244"}]
[8,{"$f":"[1]Sheet1!A603","v":"燕艺凯"},{"$f":"[1]Sheet1!D603","v":"道桥3247"}]
[9,{"$f":"[1]Sheet1!A604","v":"武宇隆"},{"$f":"[1]Sheet1!D604","v":"道桥3247"}]
[10,{"$f":"[1]Sheet1!A605","v":"邱永强"},{"$f":"[1]Sheet1!D605","v":"道桥3236"}]
[11,{"$f":"[1]Sheet1!A606","v":"郭俊杰"},{"$f":"[1]Sheet1!D606","v":"道桥3247"}]
[12,{"$f":"[1]Sheet1!A607","v":"张子恒"},{"$f":"[1]Sheet1!D607","v":"道桥3236"}]
[13,{"$f":"[1]Sheet1!A608","v":"王子成"},{"$f":"[1]Sheet1!D608","v":"道桥3236"}]
[14,{"$f":"[1]Sheet1!A609","v":"闫柯琦"},{"$f":"[1]Sheet1!D609","v":"道桥3244"}]
[15,{"$f":"[1]Sheet1!A610","v":"李英豪"},{"$f":"[1]Sheet1!D610","v":"道桥3243"}]
[16,{"$f":"[1]Sheet1!A611","v":"刘俊祥"},{"$f":"[1]Sheet1!D611","v":"道桥3244"}]
[17,{"$f":"[1]Sheet1!A612","v":"孙科杰"},{"$f":"[1]Sheet1!D612","v":"道桥3238"}]
[18,{"$f":"[1]Sheet1!A613","v":"党康乐"},{"$f":"[1]Sheet1!D613","v":"道桥3238"}]
[19,{"$f":"[1]Sheet1!A614","v":"郭奇"},{"$f":"[1]Sheet1!D614","v":"道桥3238"}]
[20,{"$f":"[1]Sheet1!A615","v":"周安鑫"},{"$f":"[1]Sheet1!D615","v":"道桥3247"}]
[21,{"$f":"[1]Sheet1!A616","v":"陈洪湋"},{"$f":"[1]Sheet1!D616","v":"道桥3247"}]
[22,{"$f":"[1]Sheet1!A617","v":"赵杰"},{"$f":"[1]Sheet1!D617","v":"道桥3247"}]
[23,{"$f":"[1]Sheet1!A618","v":"张志鹏"},{"$f":"[1]Sheet1!D618","v":"道桥3247"}]
[24,{"$f":"[1]Sheet1!A619","v":"朱彤"},{"$f":"[1]Sheet1!D619","v":"道桥3247"}]
[25,{"$f":"[1]Sheet1!A620","v":"张倬睿"},{"$f":"[1]Sheet1!D620","v":"道桥3247"}]
[26,{"$f":"[1]Sheet1!A621","v":"祝传林"},{"$f":"[1]Sheet1!D621","v":"道桥3247"}]
[27,{"$f":"[1]Sheet1!A622","v":"杨锦鑫"},{"$f":"[1]Sheet1!D622","v":"道桥3247"}]
[28,{"$f":"[1]Sheet1!A623","v":"苗科科"},{"$f":"[1]Sheet1!D623","v":"道桥3247"}]
[29,{"$f":"[1]Sheet1!A624","v":"宋庆阳"},{"$f":"[1]Sheet1!D624","v":"道桥3247"}]
[30,{"$f":"[1]Sheet1!A625","v":"王葛阳"},{"$f":"[1]Sheet1!D625","v":"道桥3247"}]
[31,{"$f":"[1]Sheet1!A626","v":"贺宇飞"},{"$f":"[1]Sheet1!D626","v":"道桥3247"}]
[32,{"$f":"[1]Sheet1!A627","v":"闵一天"},{"$f":"[1]Sheet1!D627","v":"道桥3247"}]
[33,{"$f":"[1]Sheet1!A628","v":"刘俊良"},{"$f":"[1]Sheet1!D628","v":"道桥3247"}]
[34,{"$f":"[1]Sheet1!A629","v":"万明根"},{"$f":"[1]Sheet1!D629","v":"道桥3247"}]